Workbook
Name sub_3870: КВР!$A$44
Name Код_КВР: КВР!$A$2:$A$44
Name Код_КЦСР: КЦСР!$A$2:$A$366
Name Код_ППП: ППП!$A$2:$A$14
Name Код_ПР: #REF!
Name Код_Раздел: Раздел!$A$2:$A$13

Sheet ППП
A1: Код | B1: Наименование
A2: 801 | B2: МЭРИЯ ГОРОДА
A3: 802 | B3: ЧЕРЕПОВЕЦКАЯ ГОРОДСКАЯ ДУМА
A4: 803 | B4: ДЕПАРТАМЕНТ ЖИЛИЩНО-КОММУНАЛЬНОГО ХОЗЯЙСТВА МЭРИИ ГОРОДА
A5: 804 | B5: УПРАВЛЕНИЕ АРХИТЕКТУРЫ И ГРАДОСТРОИТЕЛЬСТВА МЭРИИ ГОРОДА
A6: 805 | B6: УПРАВЛЕНИЕ ОБРАЗОВАНИЯ МЭРИИ ГОРОДА
A7: 807 | B7: ФИНАНСОВОЕ УПРАВЛЕНИЕ МЭРИИ ГОРОДА
A8: 808 | B8: УПРАВЛЕНИЕ ПО ДЕЛАМ КУЛЬТУРЫ МЭРИИ ГОРОДА
A9: 809 | B9: КОМИТЕТ ПО ФИЗИЧЕСКОЙ КУЛЬТУРЕ И СПОРТУ МЭРИИ ГОРОДА
A10: 810 | B10: КОМИТЕТ СОЦИАЛЬНОЙ ЗАЩИТЫ НАСЕЛЕНИЯ ГОРОДА
A11: 811 | B11: КОМИТЕТ ПО УПРАВЛЕНИЮ ИМУЩЕСТВОМ ГОРОДА
A12: 812 | B12: КОНТРОЛЬНО-СЧЕТНАЯ ПАЛАТА ГОРОДА ЧЕРЕПОВЦА
A13: 840 | B13: КОМИТЕТ ПО КОНТРОЛЮ В СФЕРЕ БЛАГОУСТРОЙСТВА И ОХРАНЫ ОКРУЖАЮЩЕЙ СРЕДЫ ГОРОДА
A14: 842 | B14: ТЕРРИТОРИАЛЬНАЯ ИЗБИРАТЕЛЬНАЯ КОМИССИЯ ГОРОДА ЧЕРЕПОВЦА

Sheet Раздел
A1: Код | B1: Наименование
A2: 01 | B2: Общегосударственные вопросы
A3: 03 | B3: Национальная безопасность и правоохранительная деятельность
A4: 04 | B4: Национальная экономика
A5: 05 | B5: Жилищно-коммунальное хозяйство
A6: 06 | B6: Охрана окружающей среды
A7: 07 | B7: Образование
A8: 08 | B8: Культура, кинематография
A9: 09 | B9: Здравоохранение
A10: 10 | B10: Социальная политика
A11: 11 | B11: Физическая культура и спорт
A12: 12 | B12: Средства массовой информации
A13: 13 | B13: Обслуживание государственного и муниципального долга

Sheet КЦСР
A1: Код | B1: Наименование
A2: 01 0 0000 | B2: Муниципальная программа «Развитие образования» на 2013-2022 годы
A3: 01 0 0001 | B3: Проведение мероприятий управлением образования мэрии (августовское совещание, Учитель года, День учителя, прием молодых специалистов)
A4: 01 0 0002 | B4: Обеспечение питанием обучающихся в МОУ
A5: 01 0 0003 | B5: Обеспечение работы по организации и ведению бухгалтерского (бюджетного) учета и отчетности
A6: 01 0 7204 | B6: Обеспечение питанием обучающихся в МОУ за счет субвенций из областного бюджета
A7: 01 1 0000 | B7: Дошкольное образование
A8: 01 1 0002 | B8: Создание условий для осуществления присмотра и ухода за детьми в муниципальных дошкольных образовательных учреждениях, реализующих основную образовательную программу дошкольного образования
A9: 01 1 7209 | B9: Организация предоставления общедоступного и бесплатного дошкольного образования в муниципальных дошкольных образовательных учреждениях за счет субвенций из областного бюджета
A10: 01 1 7210 | B10: Оказание содействия родителям (законным представителям) детей, посещающих дошкольные образовательные учреждения, реализующие основную образовательную программу дошкольного образования за счет субвенций из областного бюджета
A11: 01 2 0000 | B11: Общее образование
A12: 01 2 0001 | B12: Организация предоставления общедоступного и бесплатного начального общего, основного общего, среднего общего образования в муниципальных общеобразовательных учреждениях
... A281: 99 4 9000 | B281: Возмещение затрат по организации работ, связанных с уборкой улично-дорожной сети предприятиями жилищно-коммунального хозяйства города

Sheet КВР
A1: Код | B1: Наименование
A2: 100 | B2: Расходы на выплаты персоналу в целях обеспечения выполнения функций муниципальными органами, казенными учреждениями
A3: 110 | B3: Расходы на выплаты персоналу казенных учреждений
A4: 120 | B4: Расходы на выплаты персоналу муниципальных органов
A5: 200 | B5: Закупка товаров, работ и услуг для муниципальных нужд
A6: 220
A7: 240 | B7: Иные закупки товаров, работ и услуг для обеспечения муниципальных нужд
A8: 241 | B8: Научно-исследовательские и опытно-конструкторские работы
A9: 242 | B9: Закупка товаров, работ, услуг в сфере информационно-коммуникационных технологий
A10: 243 | B10: Закупка товаров, работ, услуг в целях капитального ремонта муниципального имущества
A11: 244 | B11: Прочая закупка товаров, работ и услуг для обеспечения муниципальных нужд
A12: 300 | B12: Социальное обеспечение и иные выплаты населению
A13: 310 | B13: Публичные нормативные социальные выплаты гражданам
A14: 313 | B14: Пособия, компенсации, меры социальной поддержки по публичным нормативным обязательствам
A15: 320 | B15: Социальные выплаты гражданам, кроме публичных нормативных социальных выплат
A16: 321 | B16: Пособия, компенсации и иные социальные выплаты гражданам, кроме публичных нормативных обязательств
A17: 322 | B17: Субсидии гражданам на приобретение жилья
A18: 323 | B18: Приобретение товаров, работ, услуг в пользу граждан в целях их социального обеспечения
... A44: 870 | B44: Резервные средства

Sheet прил.4
Q1: Приложение 4
Q2: к решению Череповецкой
Q3: городской Думы
Q4: от №
Q7: Приложение 11
Q8: к решению Череповецкой
Q9: городской Думы
Q10: от 10.12.2013 № 234
A13: РАСХОДЫ
A14: городского бюджета по разделам, подразделам функциональной классификации на 2014 год
R16: тыс. рублей
A17: Наименование | B17: Раздел | C17: Подраздел | D17: Решение Череповецкой городской Думы от 10.12.2013 № 234 | E17: Изменения | F17: Решение ЧГД от 25.02.2014 № 19 | G17: Изменения | H17: Решение ЧГД от 25.03.2014 № 54 | I17: Изменения | J17: Решение ЧГД от 28.04.2014 № 78 | K17: Изменения | L17: Решение ЧГД от 02.06.2014 № 112 | M17: Изменения | N17: Решение ЧГД от 30.06.2014 № 138 | O17: Изменения | P17: Решение ЧГД от 10.12.2013 № 234 (с изменениями) | Q17: Изменения | R17: Проект решения
A19: ОБЩЕГОСУДАРСТВЕННЫЕ ВОПРОСЫ | B19: 01 | D19: =SUM(D20:D26) -> 406688.2 | E19: =SUM(E20:E26) -> -9691.9 | F19: =D19+E19 -> 396996.3 | G19: =SUM(G20:G26) -> 320.2 | H19: =F19+G19 -> 397316.5 | I19: =SUM(I20:I26) -> -42730.6 | J19: =H19+I19 -> 354585.9 | K19: =SUM(K20:K26) -> -4077.8 | L19: =J19+K19 -> 350508.1 | M19: =SUM(M20:M26) -> 0 | N19: =L19+M19 -> 350508.1 | O19: =SUM(O20:O26) -> 1370.6 | P19: =N19+O19 -> 351878.7 | Q19: =SUM(Q20:Q26) -> 16241 | R19: =P19+Q19 -> 368119.7
A20: Функционирование высшего должностного лица субъекта Российской Федерации и муниципального образования | B20: 01 | C20: 02 | D20: =прил.6!G23 -> 2998 | E20: =прил.6!H23 -> 0 | F20: =D20+E20 -> 2998 | G20: =прил.6!J23 -> 0 | H20: =F20+G20 -> 2998 | I20: =прил.6!L23 -> 0 | J20: =H20+I20 -> 2998 | K20: =прил.6!N23 -> 0 | L20: =J20+K20 -> 2998 | M20: =прил.6!P23 -> 0 | N20: =L20+M20 -> 2998 | O20: =прил.6!R23 -> 0 | P20: =N20+O20 -> 2998 | Q20: =прил.6!T23 -> 0 | R20: =P20+Q20 -> 2998
A21: Функционирование законодательных (представительных) органов государственной власти и представительных органов муниципальных образований | B21: 01 | C21: 03 | D21: =прил.6!G394 -> 28887.4 | E21: =прил.6!H394 -> 0 | F21: =D21+E21 -> 28887.4 | G21: =прил.6!J394 -> -8530.4 | H21: =F21+G21 -> 20357 | I21: =прил.6!L394 -> 0 | J21: =H21+I21 -> 20357 | K21: =прил.6!N394 -> 0 | L21: =J21+K21 -> 20357 | M21: =прил.6!P394 -> 0 | N21: =L21+M21 -> 20357 | O21: =прил.6!R394 -> -209.8 | P21: =N21+O21 -> 20147.2 | Q21: =прил.6!T394 -> 0 | R21: =P21+Q21 -> 20147.2
A22: Функционирование Правительства Российской Федерации, высших исполнительных органов государственной власти субъектов Российской Федерации, местных администраций | B22: 01 | C22: 04 | D22: =прил.6!G30 -> 126109.4 | E22: =прил.6!H30 -> 0 | F22: =D22+E22 -> 126109.4 | G22: =прил.6!J30 -> 0 | H22: =F22+G22 -> 126109.4 | I22: =прил.6!L30 -> 0 | J22: =H22+I22 -> 126109.4 | K22: =прил.6!N30 -> 222.5 | L22: =J22+K22 -> 126331.9 | M22: =прил.6!P30 -> 0 | N22: =L22+M22 -> 126331.9 | O22: =прил.6!R30 -> 1542.5 | P22: =N22+O22 -> 127874.4 | Q22: =прил.6!T30 -> 0 | R22: =P22+Q22 -> 127874.4
A23: Судебная система | B23: 01 | C23: 05 | D23: =прил.6!G65 -> 0 | E23: =прил.6!H65 -> 0 | F23: =D23+E23 -> 0 | G23: =прил.6!J65 -> 0 | H23: =F23+G23 -> 0 | I23: =прил.6!L65 -> 0 | J23: =H23+I23 -> 0 | K23: =прил.6!N65 -> 21.9 | L23: =J23+K23 -> 21.9 | M23: =прил.6!P65 -> 0 | N23: =L23+M23 -> 21.9 | O23: =прил.6!R65 -> 0 | P23: =N23+O23 -> 21.9 | Q23: =прил.6!T65 -> 0 | R23: =P23+Q23 -> 21.9
A24: Обеспечение деятельности финансовых, налоговых и таможенных органов и органов финансового (финансово-бюджетного) надзора | B24: 01 | C24: 06 | D24: =прил.6!G861 -> 34285 | E24: =прил.6!H861 -> 0 | F24: =D24+E24 -> 34285 | G24: =прил.6!J861+прил.6!J1700 -> 8199.9 | H24: =F24+G24 -> 42484.9 | I24: =прил.6!L861+прил.6!L1700 -> 0 | J24: =H24+I24 -> 42484.9 | K24: =прил.6!N861+прил.6!N1700 -> 0 | L24: =J24+K24 -> 42484.9 | M24: =прил.6!P861+прил.6!P1700 -> 0 | N24: =L24+M24 -> 42484.9 | O24: =прил.6!R861+прил.6!R1700 -> 55.7 | P24: =N24+O24 -> 42540.6 | Q24: =прил.6!T861+прил.6!T1700 -> 0 | R24: =P24+Q24 -> 42540.6
A25: Резервные фонды | B25: 01 | C25: 11 | D25: =прил.6!G877 -> 69251.3 | E25: =прил.6!H877 -> -9691.9 | F25: =D25+E25 -> 59559.4 | G25: =прил.6!J877 -> -630.1 | H25: =F25+G25 -> 58929.3 | I25: =прил.6!L877 -> -42706.7 | J25: =H25+I25 -> 16222.6 | K25: =прил.6!N877 -> -4163 | L25: =J25+K25 -> 12059.6 | M25: =прил.6!P877 -> 0 | N25: =L25+M25 -> 12059.6 | O25: =прил.6!R877 -> -310.1 | P25: =N25+O25 -> 11749.5 | Q25: =прил.6!T877 -> 0 | R25: =P25+Q25 -> 11749.5
A26: Другие общегосударственные вопросы | B26: 01 | C26: 13 | D26: =прил.6!G72+прил.6!G416+прил.6!G884+прил.6!G1485 -> 145157.1 | E26: =прил.6!H72+прил.6!H416+прил.6!H884+прил.6!H1485 -> 0 | F26: =D26+E26 -> 145157.1 | G26: =прил.6!J72+прил.6!J416+прил.6!J884+прил.6!J1485 -> 1280.8 | H26: =F26+G26 -> 146437.9 | I26: =прил.6!L72+прил.6!L416+прил.6!L884+прил.6!L1485 -> -23.9 | J26: =H26+I26 -> 146414 | K26: =прил.6!N72+прил.6!N416+прил.6!N884+прил.6!N1485 -> -159.2 | L26: =J26+K26 -> 146254.8 | M26: =прил.6!P72+прил.6!P416+прил.6!P884+прил.6!P1485 -> 0 | N26: =L26+M26 -> 146254.8 | O26: =прил.6!R72+прил.6!R416+прил.6!R884+прил.6!R1485 -> 292.3 | P26: =N26+O26 -> 146547.1 | Q26: =прил.6!T72+прил.6!T416+прил.6!T884+прил.6!T1485+прил.6!T1290 -> 16241 | R26: =P26+Q26 -> 162788.1
A27: НАЦИОНАЛЬНАЯ БЕЗОПАСНОСТЬ И ПРАВООХРАНИТЕЛЬНАЯ ДЕЯТЕЛЬНОСТЬ | B27: 03 | D27: =SUM(D28) -> 59148.7 | E27: =SUM(E28) -> 0 | F27: =D27+E27 -> 59148.7 | G27: =SUM(G28) -> 0 | H27: =F27+G27 -> 59148.7 | I27: =SUM(I28) -> -3441.5 | J27: =H27+I27 -> 55707.2 | K27: =SUM(K28) -> 0 | L27: =J27+K27 -> 55707.2 | M27: =SUM(M28) -> 0 | N27: =L27+M27 -> 55707.2 | O27: =SUM(O28) -> 80.1 | P27: =N27+O27 -> 55787.3 | Q27: =SUM(Q28) -> 0 | R27: =P27+Q27 -> 55787.3
A28: Защита населения и территории от чрезвычайных ситуаций природного и техногенного характера, гражданская оборона | B28: 03 | C28: 09 | D28: =прил.6!G176 -> 59148.7 | E28: =прил.6!H176 -> 0 | F28: =D28+E28 -> 59148.7 | G28: =прил.6!J176 -> 0 | H28: =F28+G28 -> 59148.7 | I28: =прил.6!L176 -> -3441.5 | J28: =H28+I28 -> 55707.2 | K28: =прил.6!N176 -> 0 | L28: =J28+K28 -> 55707.2 | M28: =прил.6!P176 -> 0 | N28: =L28+M28 -> 55707.2 | O28: =прил.6!R176 -> 80.1 | P28: =N28+O28 -> 55787.3 | Q28: =прил.6!T176 -> 0 | R28: =P28+Q28 -> 55787.3
A29: НАЦИОНАЛЬНАЯ ЭКОНОМИКА | B29: 04 | D29: =SUM(D30:D34) -> 1014715.6 | E29: =SUM(E30:E34) -> -12616.4 | F29: =D29+E29 -> 1002099.2 | G29: =SUM(G30:G34) -> -48495.5 | H29: =F29+G29 -> 953603.7 | I29: =SUM(I30:I34) -> -8338.8 | J29: =H29+I29 -> 945264.9 | K29: =SUM(K30:K34) -> -2924.1 | L29: =J29+K29 -> 942340.8 | M29: =SUM(M30:M34) -> 12800 | N29: =L29+M29 -> 955140.8 | O29: =SUM(O30:O34) -> -2038.5 | P29: =N29+O29 -> 953102.3 | Q29: =SUM(Q30:Q34) -> -5008.1 | R29: =P29+Q29 -> 948094.2
A30: Общеэкономические вопросы | B30: 04 | C30: 01 | D30: =прил.6!G234 -> 1338.9 | E30: =прил.6!H234 -> 0 | F30: =D30+E30 -> 1338.9 | G30: =прил.6!J234 -> 0 | H30: =F30+G30 -> 1338.9 | I30: =прил.6!L234 -> 0 | J30: =H30+I30 -> 1338.9 | K30: =прил.6!N574 -> 68.9 | L30: =J30+K30 -> 1407.8 | M30: =прил.6!P574 -> 0 | N30: =L30+M30 -> 1407.8 | O30: =прил.6!R574+прил.6!R234 -> -17.4 | P30: =N30+O30 -> 1390.4 | Q30: =прил.6!T574+прил.6!T234 -> 0 | R30: =P30+Q30 -> 1390.4
A31: Транспорт | B31: 04 | C31: 08 | D31: =прил.6!G1505 -> 82953.9 | E31: =прил.6!H1505+прил.6!H424 -> 0 | F31: =D31+E31 -> 82953.9 | G31: =прил.6!J1505+прил.6!J424 -> 0 | H31: =F31+G31 -> 82953.9 | I31: =прил.6!L1505+прил.6!L424 -> 0 | J31: =H31+I31 -> 82953.9 | K31: =прил.6!N1505+прил.6!N424 -> -2565.7 | L31: =J31+K31 -> 80388.2 | M31: =прил.6!P1505+прил.6!P424+прил.6!P240 -> 12800 | N31: =L31+M31 -> 93188.2 | O31: =прил.6!R1505+прил.6!R424+прил.6!R240 -> -49.9 | P31: =N31+O31 -> 93138.3 | Q31: =прил.6!T1505+прил.6!T424+прил.6!T240 -> 0 | R31: =P31+Q31 -> 93138.3
A32: Дорожное хозяйство (дорожные фонды) | B32: 04 | C32: 09 | D32: =прил.6!G430+прил.6!G1516 -> 617007.6 | E32: =прил.6!H430+прил.6!H1516 -> 51383.6 | F32: =D32+E32 -> 668391.2 | G32: =прил.6!J430+прил.6!J1516 -> -594.6 | H32: =F32+G32 -> 667796.6 | I32: =прил.6!L430+прил.6!L1516 -> -1754.1 | J32: =H32+I32 -> 666042.5 | K32: =прил.6!N430+прил.6!N1516 -> -676.7 | L32: =J32+K32 -> 665365.8 | M32: =прил.6!P430+прил.6!P1516 -> 0 | N32: =L32+M32 -> 665365.8 | O32: =прил.6!R430+прил.6!R1516 -> -1501.1 | P32: =N32+O32 -> 663864.7 | Q32: =прил.6!T430+прил.6!T1516 -> -8279.7 | R32: =P32+Q32 -> 655585
A33: Связь и информатика | B33: 04 | C33: 10 | D33: =прил.6!G245 -> 53815.5 | E33: =прил.6!H245 -> 0 | F33: =D33+E33 -> 53815.5 | G33: =прил.6!J245 -> 1675.7 | H33: =F33+G33 -> 55491.2 | I33: =прил.6!L245+прил.6!L1539 -> 507.5 | J33: =H33+I33 -> 55998.7 | K33: =прил.6!N245+прил.6!N1539 -> 41.6 | L33: =J33+K33 -> 56040.3 | M33: =прил.6!P245+прил.6!P1539 -> 0 | N33: =L33+M33 -> 56040.3 | O33: =прил.6!R245+прил.6!R1539 -> -3513.3 | P33: =N33+O33 -> 52527 | Q33: =прил.6!T245+прил.6!T1539 -> -98.7 | R33: =P33+Q33 -> 52428.3
A34: Другие вопросы в области национальной экономики | B34: 04 | C34: 12 | D34: =прил.6!G277+прил.6!G461+прил.6!G549+прил.6!G899+прил.6!G910+прил.6!G1546 -> 259599.7 | E34: =прил.6!H277+прил.6!H461+прил.6!H549+прил.6!H899+прил.6!H910+прил.6!H1546 -> -64000 | F34: =D34+E34 -> 195599.7 | G34: =прил.6!J277+прил.6!J461+прил.6!J549+прил.6!J899+прил.6!J910+прил.6!J1546 -> -49576.6 | H34: =F34+G34 -> 146023.1 | I34: =прил.6!L277+прил.6!L461+прил.6!L549+прил.6!L899+прил.6!L910+прил.6!L1546 -> -7092.2 | J34: =H34+I34 -> 138930.9 | K34: =прил.6!N277+прил.6!N461+прил.6!N549+прил.6!N899+прил.6!N910+прил.6!N1546 -> 207.8 | L34: =J34+K34 -> 139138.7 | M34: =прил.6!P277+прил.6!P461+прил.6!P549+прил.6!P899+прил.6!P910+прил.6!P1546 -> 0 | N34: =L34+M34 -> 139138.7 | O34: =прил.6!R277+прил.6!R461+прил.6!R549+прил.6!R899+прил.6!R910+прил.6!R1546 -> 3043.2 | P34: =N34+O34 -> 142181.9 | Q34: =прил.6!T277+прил.6!T461+прил.6!T549+прил.6!T899+прил.6!T910+прил.6!T1546 -> 3370.3 | R34: =P34+Q34 -> 145552.2
A35: ЖИЛИЩНО-КОММУНАЛЬНОЕ ХОЗЯЙСТВО | B35: 05 | D35: =SUM(D36:D39) -> 177342.5 | E35: =SUM(E36:E39) -> 0 | F35: =D35+E35 -> 177342.5 | G35: =SUM(G36:G39) -> -898.9 | H35: =F35+G35 -> 176443.6 | I35: =SUM(I36:I39) -> -2268.9 | J35: =H35+I35 -> 174174.7 | K35: =SUM(K36:K39) -> 3842.2 | L35: =J35+K35 -> 178016.9 | M35: =SUM(M36:M39) -> -140.2 | N35: =L35+M35 -> 177876.7 | O35: =SUM(O36:O39) -> 8039.6 | P35: =N35+O35 -> 185916.3 | Q35: =SUM(Q36:Q39) -> 4170.4 | R35: =P35+Q35 -> 190086.7
A36: Жилищное хозяйство | B36: 05 | C36: 01 | D36: =прил.6!G478 -> 9180.8 | E36: =прил.6!H478 -> 0 | F36: =D36+E36 -> 9180.8 | G36: =прил.6!J478 -> 0 | H36: =F36+G36 -> 9180.8 | I36: =прил.6!L478 -> -508.5 | J36: =H36+I36 -> 8672.3 | K36: =прил.6!N478 -> 0 | L36: =J36+K36 -> 8672.3 | M36: =прил.6!P478 -> 0 | N36: =L36+M36 -> 8672.3 | O36: =прил.6!R478+прил.6!R1596 -> 8188.5 | P36: =N36+O36 -> 16860.8 | Q36: =прил.6!T478+прил.6!T1596 -> 0 | R36: =P36+Q36 -> 16860.8
A37: Коммунальное хозяйство | B37: 05 | C37: 02 | D37: =прил.6!G1602 -> 4522 | E37: =прил.6!H1602 -> 0 | F37: =D37+E37 -> 4522 | G37: =прил.6!J1602 -> 0 | H37: =F37+G37 -> 4522 | I37: =прил.6!L1602 -> 412.8 | J37: =H37+I37 -> 4934.8 | K37: =прил.6!N1602 -> 0 | L37: =J37+K37 -> 4934.8 | M37: =прил.6!P1602 -> 0 | N37: =L37+M37 -> 4934.8 | O37: =прил.6!R1602 -> 1611 | P37: =N37+O37 -> 6545.8 | Q37: =прил.6!T1602 -> -1622.9 | R37: =P37+Q37 -> 4922.9
A38: Благоустройство | B38: 05 | C38: 03 | D38: =прил.6!G499+прил.6!G1613 -> 141710.4 | E38: =прил.6!H499+прил.6!H1613 -> 0 | F38: =D38+E38 -> 141710.4 | G38: =прил.6!J499+прил.6!J1613 -> -898.9 | H38: =F38+G38 -> 140811.5 | I38: =прил.6!L499+прил.6!L1613 -> -2173.2 | J38: =H38+I38 -> 138638.3 | K38: =прил.6!N499+прил.6!N1613 -> 3842.2 | L38: =J38+K38 -> 142480.5 | M38: =прил.6!P499+прил.6!P1613 -> -140.2 | N38: =L38+M38 -> 142340.3 | O38: =прил.6!R499+прил.6!R1613 -> -1759.9 | P38: =N38+O38 -> 140580.4 | Q38: =прил.6!T499+прил.6!T1613 -> 5793.3 | R38: =P38+Q38 -> 146373.7
A39: Другие вопросы в области жилищно-коммунального хозяйства | B39: 05 | C39: 05 | D39: =прил.6!G513 -> 21929.3 | E39: =прил.6!H513 -> 0 | F39: =D39+E39 -> 21929.3 | G39: =прил.6!J513 -> 0 | H39: =F39+G39 -> 21929.3 | I39: =прил.6!L513 -> 0 | J39: =H39+I39 -> 21929.3 | K39: =прил.6!N513 -> 0 | L39: =J39+K39 -> 21929.3 | M39: =прил.6!P513 -> 0 | N39: =L39+M39 -> 21929.3 | O39: =прил.6!R513 -> 0 | P39: =N39+O39 -> 21929.3 | Q39: =прил.6!T513 -> 0 | R39: =P39+Q39 -> 21929.3
A40: ОХРАНА ОКРУЖАЮЩЕЙ СРЕДЫ | B40: 06 | D40: =SUM(D41:D42) -> 17871.6 | E40: =SUM(E41:E42) -> 0 | F40: =D40+E40 -> 17871.6 | G40: =SUM(G41:G42) -> 0 | H40: =F40+G40 -> 17871.6 | I40: =SUM(I41:I42) -> -0.6 | J40: =H40+I40 -> 17871 | K40: =SUM(K41:K42) -> -164.3 | L40: =J40+K40 -> 17706.7 | M40: =SUM(M41:M42) -> 0 | N40: =L40+M40 -> 17706.7 | O40: =SUM(O41:O42) -> 0 | P40: =N40+O40 -> 17706.7 | Q40: =SUM(Q41:Q42) -> 0 | R40: =P40+Q40 -> 17706.7
A41: Охрана объектов растительного и животного мира и среды их обитания | B41: 06 | C41: 03 | D41: =прил.6!G1715 -> 1703.5 | E41: =прил.6!H1715 -> 0 | F41: =D41+E41 -> 1703.5 | G41: =прил.6!J1715 -> 0 | H41: =F41+G41 -> 1703.5 | I41: =прил.6!L1715 -> 0 | J41: =H41+I41 -> 1703.5 | K41: =прил.6!N1715 -> 0 | L41: =J41+K41 -> 1703.5 | M41: =прил.6!P1715 -> 0 | N41: =L41+M41 -> 1703.5 | O41: =прил.6!R1715 -> 0 | P41: =N41+O41 -> 1703.5 | Q41: =прил.6!T1715 -> 0 | R41: =P41+Q41 -> 1703.5
A42: Другие вопросы в области охраны окружающей среды | B42: 06 | C42: 05 | D42: =прил.6!G527+прил.6!G1724 -> 16168.1 | E42: =прил.6!H527+прил.6!H1724 -> 0 | F42: =D42+E42 -> 16168.1 | G42: =прил.6!J527+прил.6!J1724 -> 0 | H42: =F42+G42 -> 16168.1 | I42: =прил.6!L527+прил.6!L1724 -> -0.6 | J42: =H42+I42 -> 16167.5 | K42: =прил.6!N527+прил.6!N1724 -> -164.3 | L42: =J42+K42 -> 16003.2 | M42: =прил.6!P527+прил.6!P1724 -> 0 | N42: =L42+M42 -> 16003.2 | O42: =прил.6!R527+прил.6!R1724 -> 0 | P42: =N42+O42 -> 16003.2 | Q42: =прил.6!T527+прил.6!T1724 -> 0 | R42: =P42+Q42 -> 16003.2
A43: ОБРАЗОВАНИЕ | B43: 07 | D43: =SUM(D44:D47) -> 3396213.5 | E43: =SUM(E44:E47) -> 908.8 | F43: =D43+E43 -> 3397122.3 | G43: =SUM(G44:G47) -> 45778.4 | H43: =F43+G43 -> 3442900.7 | I43: =SUM(I44:I47) -> -8859.4 | J43: =H43+I43 -> 3434041.3 | K43: =SUM(K44:K47) -> 1917.5 | L43: =J43+K43 -> 3435958.8 | M43: =SUM(M44:M47) -> 3969.5 | N43: =L43+M43 -> 3439928.3 | O43: =SUM(O44:O47) -> 307526.4 | P43: =N43+O43 -> 3747454.7 | Q43: =SUM(Q44:Q47) -> 24899.1 | R43: =P43+Q43 -> 3772353.8
A44: Дошкольное образование | B44: 07 | C44: 01 | D44: =прил.6!G586 -> 1310375.8 | E44: =прил.6!H586 -> 0 | F44: =D44+E44 -> 1310375.8 | G44: =прил.6!J586 -> 44229.3 | H44: =F44+G44 -> 1354605.1 | I44: =прил.6!L586 -> -167.8 | J44: =H44+I44 -> 1354437.3 | K44: =прил.6!N586 -> -2500 | L44: =J44+K44 -> 1351937.3 | M44: =прил.6!P586 -> 0 | N44: =L44+M44 -> 1351937.3 | O44: =прил.6!R586 -> 35857.7 | P44: =N44+O44 -> 1387795 | Q44: =прил.6!T586 -> 13210.6 | R44: =P44+Q44 -> 1401005.6
A45: Общее образование | B45: 07 | C45: 02 | D45: =прил.6!G626+прил.6!G919+прил.6!G1196+прил.6!G1621 -> 1757386.2 | E45: =прил.6!H626+прил.6!H919+прил.6!H1196+прил.6!H1621 -> 908.8 | F45: =D45+E45 -> 1758295 | G45: =прил.6!J626+прил.6!J919+прил.6!J1196+прил.6!J1621 -> -7173 | H45: =F45+G45 -> 1751122 | I45: =прил.6!L626+прил.6!L919+прил.6!L1196+прил.6!L1621 -> -208.6 | J45: =H45+I45 -> 1750913.4 | K45: =прил.6!N626+прил.6!N919+прил.6!N1196+прил.6!N1621 -> -2877.3 | L45: =J45+K45 -> 1748036.1 | M45: =прил.6!P626+прил.6!P919+прил.6!P1196+прил.6!P1621 -> 10 | N45: =L45+M45 -> 1748046.1 | O45: =прил.6!R626+прил.6!R919+прил.6!R1196+прил.6!R1621 -> 952.6 | P45: =N45+O45 -> 1748998.7 | Q45: =прил.6!T626+прил.6!T919+прил.6!T1196+прил.6!T1621 -> 11220.2 | R45: =P45+Q45 -> 1760218.9
A46: Молодежная политика и оздоровление детей | B46: 07 | C46: 07 | D46: =прил.6!G304+прил.6!G691+прил.6!G1297+прил.6!G1627 -> 86246.6 | E46: =прил.6!H304+прил.6!H691+прил.6!H1297+прил.6!H1627 -> 0 | F46: =D46+E46 -> 86246.6 | G46: =прил.6!J304+прил.6!J691+прил.6!J934+прил.6!J1204+прил.6!J1297+прил.6!J1627 -> 0.7 | H46: =F46+G46 -> 86247.3 | I46: =прил.6!L304+прил.6!L691+прил.6!L934+прил.6!L1204+прил.6!L1297+прил.6!L1627 -> -3065.8 | J46: =H46+I46 -> 83181.5 | K46: =прил.6!N304+прил.6!N691+прил.6!N934+прил.6!N1204+прил.6!N1297+прил.6!N1627 -> 377.3 | L46: =J46+K46 -> 83558.8 | M46: =прил.6!P304+прил.6!P691+прил.6!P934+прил.6!P1204+прил.6!P1297+прил.6!P1627 -> 0 | N46: =L46+M46 -> 83558.8 | O46: =прил.6!R304+прил.6!R691+прил.6!R934+прил.6!R1204+прил.6!R1297+прил.6!R1627 -> 0 | P46: =N46+O46 -> 83558.8 | Q46: =прил.6!T304+прил.6!T691+прил.6!T934+прил.6!T1204+прил.6!T1297+прил.6!T1627 -> -734.7 | R46: =P46+Q46 -> 82824.1
...

Sheet прил. 5
S1: Приложение 5
S2: к решению Череповецкой
S3: городской Думы
S4: от №
S7: Приложение 13
S8: к решению Череповецкой
S9: городской Думы
S10: от 10.12.2013 № 234
A14: РАСХОДЫ
A15: городского бюджета по целевым статьям (муниципальным программам и непрограммным направлениям деятельности), разделам, подразделам, группам и подгруппам видов расходов классификации расходов бюджетов на 2014 год
T16: тыс.рублей
A17: Наименование | B17: ЦСР | C17: Раздел | D17: ПР | E17: ВР | F17: Решение Череповецкой городской Думы от 10.12.2013 № 234 | G17: Изменения | H17: Решение ЧГД от 25.02.2014 № 19 | I17: Изменения | J17: Решение ЧГД от 25.03.2014 № 54 | K17: изменения | L17: Решение ЧГД от 28.04.2014 № 78 | M17: Изменения | N17: Решение ЧГД от 02.06.2014 № 112 | O17: Изменения | P17: Решение ЧГД от 30.06.2014 № 138 | Q17: Изменения | R17: Решение ЧГД от 10.12.2013 № 234 (с изменениями) | S17: Изменения | T17: Проект решения
A18: =IF(ISERROR(MATCH(B18,Код_КЦСР,0)),"",INDIRECT(ADDRESS(MATCH(B18,Код_КЦСР,0)+1,2,,,"КЦСР"))) -> Муниципальная программа «Развитие образования» на 2013-2022 годы | B18: 01 0 0000 | F18: =F19+F25+F38+F44+F52+F75+F130+F149+F187+F195+F206 -> 3137666.3 | G18: =G19+G25+G38+G44+G52+G75+G130+G149+G187+G195+G206 -> 0 | H18: =F18+G18 -> 3137666.3 | I18: =I19+I25+I38+I44+I52+I75+I130+I149+I187+I195+I206 -> -10964.4 | J18: =H18+I18 -> 3126701.9 | K18: =K19+K25+K38+K44+K52+K75+K130+K149+K187+K195+K206 -> -505 | L18: =J18+K18 -> 3126196.9 | M18: =M19+M25+M38+M44+M52+M75+M130+M149+M187+M195+M206 -> 1917.5 | N18: =L18+M18 -> 3128114.4 | O18: =O19+O25+O38+O44+O52+O75+O130+O149+O187+O195+O206 -> 0 | P18: =N18+O18 -> 3128114.4 | Q18: =Q19+Q25+Q38+Q44+Q52+Q75+Q130+Q149+Q187+Q195+Q206 -> 28126.9 | R18: =P18+Q18 -> 3156241.3 | S18: =S19+S25+S38+S44+S52+S75+S130+S149+S187+S195+S206 -> 31205.3 | T18: =R18+S18 -> 3187446.6
A19: =IF(ISERROR(MATCH(B19,Код_КЦСР,0)),"",INDIRECT(ADDRESS(MATCH(B19,Код_КЦСР,0)+1,2,,,"КЦСР"))) -> Проведение мероприятий управлением образования мэрии (августовское совещание, Учитель года, День учителя, прием молодых специалистов) | B19: 01 0 0001 | F19: =F20 -> 92.7 | G19: =G20 -> 0 | H19: =F19+G19 -> 92.7 | I19: =I20 -> 0 | J19: =H19+I19 -> 92.7 | K19: =K20 -> 0 | L19: =J19+K19 -> 92.7 | M19: =M20 -> 0 | N19: =L19+M19 -> 92.7 | O19: =O20 -> 0 | P19: =N19+O19 -> 92.7 | Q19: =Q20 -> 0 | R19: =P19+Q19 -> 92.7 | S19: =S20 -> 0 | T19: =R19+S19 -> 92.7
A20: =IF(ISERROR(MATCH(C20,Код_Раздел,0)),"",INDIRECT(ADDRESS(MATCH(C20,Код_Раздел,0)+1,2,,,"Раздел"))) -> Образование | B20: 01 0 0001 | C20: 07 | F20: =F21 -> 92.7 | G20: =G21 -> 0 | H20: =F20+G20 -> 92.7 | I20: =I21 -> 0 | J20: =H20+I20 -> 92.7 | K20: =K21 -> 0 | L20: =J20+K20 -> 92.7 | M20: =M21 -> 0 | N20: =L20+M20 -> 92.7 | O20: =O21 -> 0 | P20: =N20+O20 -> 92.7 | Q20: =Q21 -> 0 | R20: =P20+Q20 -> 92.7 | S20: =S21 -> 0 | T20: =R20+S20 -> 92.7
A21: Другие вопросы в области образования | B21: 01 0 0001 | C21: 07 | D21: 09 | F21: =F22 -> 92.7 | G21: =G22 -> 0 | H21: =F21+G21 -> 92.7 | I21: =I22 -> 0 | J21: =H21+I21 -> 92.7 | K21: =K22 -> 0 | L21: =J21+K21 -> 92.7 | M21: =M22 -> 0 | N21: =L21+M21 -> 92.7 | O21: =O22 -> 0 | P21: =N21+O21 -> 92.7 | Q21: =Q22 -> 0 | R21: =P21+Q21 -> 92.7 | S21: =S22 -> 0 | T21: =R21+S21 -> 92.7
A22: =IF(ISERROR(MATCH(E22,Код_КВР,0)),"",INDIRECT(ADDRESS(MATCH(E22,Код_КВР,0)+1,2,,,"КВР"))) -> Закупка товаров, работ и услуг для муниципальных нужд | B22: 01 0 0001 | C22: 07 | D22: 09 | E22: 200 | F22: =F23 -> 92.7 | G22: =G23 -> 0 | H22: =F22+G22 -> 92.7 | I22: =I23 -> 0 | J22: =H22+I22 -> 92.7 | K22: =K23 -> 0 | L22: =J22+K22 -> 92.7 | M22: =M23 -> 0 | N22: =L22+M22 -> 92.7 | O22: =O23 -> 0 | P22: =N22+O22 -> 92.7 | Q22: =Q23 -> 0 | R22: =P22+Q22 -> 92.7 | S22: =S23 -> 0 | T22: =R22+S22 -> 92.7
A23: =IF(ISERROR(MATCH(E23,Код_КВР,0)),"",INDIRECT(ADDRESS(MATCH(E23,Код_КВР,0)+1,2,,,"КВР"))) -> Иные закупки товаров, работ и услуг для обеспечения муниципальных нужд | B23: 01 0 0001 | C23: 07 | D23: 09 | E23: 240 | F23: =F24 -> 92.7 | G23: =G24 -> 0 | H23: =F23+G23 -> 92.7 | I23: =I24 -> 0 | J23: =H23+I23 -> 92.7 | K23: =K24 -> 0 | L23: =J23+K23 -> 92.7 | M23: =M24 -> 0 | N23: =L23+M23 -> 92.7 | O23: =O24 -> 0 | P23: =N23+O23 -> 92.7 | Q23: =Q24 -> 0 | R23: =P23+Q23 -> 92.7 | S23: =S24 -> 0 | T23: =R23+S23 -> 92.7
A24: =IF(ISERROR(MATCH(E24,Код_КВР,0)),"",INDIRECT(ADDRESS(MATCH(E24,Код_КВР,0)+1,2,,,"КВР"))) -> Прочая закупка товаров, работ и услуг для обеспечения муниципальных нужд | B24: 01 0 0001 | C24: 07 | D24: 09 | E24: 244 | F24: =прил.6!G712 -> 92.7 | G24: =прил.6!H712 -> 0 | H24: =F24+G24 -> 92.7 | I24: =прил.6!J712 -> 0 | J24: =H24+I24 -> 92.7 | K24: =прил.6!L712 -> 0 | L24: =J24+K24 -> 92.7 | M24: =прил.6!N712 -> 0 | N24: =L24+M24 -> 92.7 | O24: =прил.6!P712 -> 0 | P24: =N24+O24 -> 92.7 | Q24: =прил.6!R712 -> 0 | R24: =P24+Q24 -> 92.7 | S24: =прил.6!T712 -> 0 | T24: =R24+S24 -> 92.7
A25: =IF(ISERROR(MATCH(B25,Код_КЦСР,0)),"",INDIRECT(ADDRESS(MATCH(B25,Код_КЦСР,0)+1,2,,,"КЦСР"))) -> Обеспечение питанием обучающихся в МОУ | B25: 01 0 0002 | F25: =F30+F26 -> 6132.1 | G25: =G30+G26 -> 0 | H25: =F25+G25 -> 6132.1 | I25: =I30+I26 -> 0 | J25: =H25+I25 -> 6132.1 | K25: =K30+K26 -> -232.3 | L25: =J25+K25 -> 5899.8 | M25: =M26 -> 2294.8 | N25: =L25+M25 -> 8194.6 | O25: =O26 -> 0 | P25: =N25+O25 -> 8194.6 | Q25: =Q26 -> 0 | R25: =P25+Q25 -> 8194.6 | S25: =S26 -> -46.9 | T25: =R25+S25 -> 8147.7
A26: =IF(ISERROR(MATCH(C26,Код_Раздел,0)),"",INDIRECT(ADDRESS(MATCH(C26,Код_Раздел,0)+1,2,,,"Раздел"))) -> Образование | B26: 01 0 0002 | C26: 07 | F26: =F31 -> 6132.1 | H26: =F26+G26 -> 6132.1 | J26: =H26+I26 -> 6132.1 | K26: =K31 -> -232.3 | L26: =L31 -> 5899.8 | M26: =M27+M31 -> 2294.8 | N26: =L26+M26 -> 8194.6 | O26: =O27+O31 -> 0 | P26: =N26+O26 -> 8194.6 | Q26: =Q27+Q31 -> 0 | R26: =P26+Q26 -> 8194.6 | S26: =S27+S31 -> -46.9 | T26: =R26+S26 -> 8147.7
A27: Молодежная политика и оздоровление детей | B27: 01 0 0002 | C27: 07 | D27: 07 | M27: =M28 -> 377.3 | N27: =L27+M27 -> 377.3 | O27: =O28 -> 0 | P27: =N27+O27 -> 377.3 | Q27: =Q28 -> 0 | R27: =P27+Q27 -> 377.3 | S27: =S28 -> 0 | T27: =R27+S27 -> 377.3
A28: =IF(ISERROR(MATCH(E28,Код_КВР,0)),"",INDIRECT(ADDRESS(MATCH(E28,Код_КВР,0)+1,2,,,"КВР"))) -> Предоставление субсидий бюджетным, автономным учреждениям и иным некоммерческим организациям | B28: 01 0 0002 | C28: 07 | D28: 07 | E28: 600 | M28: =M29 -> 377.3 | N28: =L28+M28 -> 377.3 | O28: =O29 -> 0 | P28: =N28+O28 -> 377.3 | Q28: =Q29 -> 0 | R28: =P28+Q28 -> 377.3 | S28: =S29 -> 0 | T28: =R28+S28 -> 377.3
A29: =IF(ISERROR(MATCH(E29,Код_КВР,0)),"",INDIRECT(ADDRESS(MATCH(E29,Код_КВР,0)+1,2,,,"КВР"))) -> Субсидии автономным учреждениям на иные цели | B29: 01 0 0002 | C29: 07 | D29: 07 | E29: 622 | M29: =прил.6!N696 -> 377.3 | N29: =L29+M29 -> 377.3 | O29: =прил.6!P696 -> 0 | P29: =N29+O29 -> 377.3 | Q29: =прил.6!R696 -> 0 | R29: =P29+Q29 -> 377.3 | S29: =прил.6!T696 -> 0 | T29: =R29+S29 -> 377.3
A30: =IF(ISERROR(MATCH(C30,Код_Раздел,0)),"",INDIRECT(ADDRESS(MATCH(C30,Код_Раздел,0)+1,2,,,"Раздел"))) | B30: 01 0 0002 | G30: =G31 -> 0 | H30: =F30+G30 -> 0 | I30: =I31 -> 0 | J30: =H30+I30 -> 0 | L30: =J30+K30 -> 0 | N30: =L30+M30 -> 0 | O30: =O31 -> 0 | P30: =N30+O30 -> 0 | R30: =P30+Q30 -> 0 | T30: =R30+S30 -> 0
A31: Другие вопросы в области образования | B31: 01 0 0002 | C31: 07 | D31: 09 | F31: =F32 -> 6132.1 | G31: =G32 -> 0 | H31: =F31+G31 -> 6132.1 | I31: =I32 -> 0 | J31: =H31+I31 -> 6132.1 | K31: =K32 -> -232.3 | L31: =J31+K31 -> 5899.8 | M31: =M32 -> 1917.5 | N31: =L31+M31 -> 7817.3 | O31: =O32 -> 0 | P31: =N31+O31 -> 7817.3 | Q31: =Q32 -> 0 | R31: =P31+Q31 -> 7817.3 | S31: =S32 -> -46.9 | T31: =R31+S31 -> 7770.4
A32: =IF(ISERROR(MATCH(E32,Код_КВР,0)),"",INDIRECT(ADDRESS(MATCH(E32,Код_КВР,0)+1,2,,,"КВР"))) -> Предоставление субсидий бюджетным, автономным учреждениям и иным некоммерческим организациям | B32: 01 0 0002 | C32: 07 | D32: 09 | E32: 600 | F32: =F33 -> 6132.1 | G32: =G33 -> 0 | H32: =F32+G32 -> 6132.1 | I32: =I33+I35 -> 0 | J32: =H32+I32 -> 6132.1 | K32: =K33+K35 -> -232.3 | L32: =J32+K32 -> 5899.8 | M32: =M33+M35 -> 1917.5 | N32: =L32+M32 -> 7817.3 | O32: =O33+O35 -> 0 | P32: =N32+O32 -> 7817.3 | Q32: =Q33+Q35 -> 0 | R32: =P32+Q32 -> 7817.3 | S32: =S33+S35 -> -46.9 | T32: =R32+S32 -> 7770.4
A33: =IF(ISERROR(MATCH(E33,Код_КВР,0)),"",INDIRECT(ADDRESS(MATCH(E33,Код_КВР,0)+1,2,,,"КВР"))) -> Субсидии бюджетным учреждениям | B33: 01 0 0002 | C33: 07 | D33: 09 | E33: 610 | F33: =F34 -> 6132.1 | G33: =G34 -> 0 | H33: =F33+G33 -> 6132.1 | I33: =I34 -> -4281.5 | J33: =H33+I33 -> 1850.6 | K33: =K34 -> 0 | L33: =J33+K33 -> 1850.6 | M33: =M34 -> 0 | N33: =L33+M33 -> 1850.6 | O33: =O34 -> 0 | P33: =N33+O33 -> 1850.6 | Q33: =Q34 -> 0 | R33: =P33+Q33 -> 1850.6 | S33: =S34 -> -466.1 | T33: =R33+S33 -> 1384.5
A34: =IF(ISERROR(MATCH(E34,Код_КВР,0)),"",INDIRECT(ADDRESS(MATCH(E34,Код_КВР,0)+1,2,,,"КВР"))) -> Субсидии бюджетным учреждениям на финансовое обеспечение муниципального задания на оказание муниципальных услуг (выполнение работ) | B34: 01 0 0002 | C34: 07 | D34: 09 | E34: 611 | F34: =прил.6!G716 -> 6132.1 | G34: =прил.6!H716 -> 0 | H34: =F34+G34 -> 6132.1 | I34: =прил.6!J716 -> -4281.5 | J34: =H34+I34 -> 1850.6 | K34: =прил.6!L716 -> 0 | L34: =J34+K34 -> 1850.6 | M34: =прил.6!N716 -> 0 | N34: =L34+M34 -> 1850.6 | O34: =прил.6!P716 -> 0 | P34: =N34+O34 -> 1850.6 | Q34: =прил.6!R716 -> 0 | R34: =P34+Q34 -> 1850.6 | S34: =прил.6!T716 -> -466.1 | T34: =R34+S34 -> 1384.5
A35: =IF(ISERROR(MATCH(E35,Код_КВР,0)),"",INDIRECT(ADDRESS(MATCH(E35,Код_КВР,0)+1,2,,,"КВР"))) -> Субсидии автономным учреждениям | B35: 01 0 0002 | C35: 07 | D35: 09 | E35: 620 | I35: =I36 -> 4281.5 | J35: =H35+I35 -> 4281.5 | K35: =K36 -> -232.3 | L35: =J35+K35 -> 4049.2 | M35: =M36+M37 -> 1917.5 | N35: =L35+M35 -> 5966.7 | O35: =O36+O37 -> 0 | P35: =N35+O35 -> 5966.7 | Q35: =Q36+Q37 -> 0 | R35: =P35+Q35 -> 5966.7 | S35: =S36+S37 -> 419.2 | T35: =R35+S35 -> 6385.9
A36: =IF(ISERROR(MATCH(E36,Код_КВР,0)),"",INDIRECT(ADDRESS(MATCH(E36,Код_КВР,0)+1,2,,,"КВР"))) -> Субсидии автономным учреждениям на финансовое обеспечение муниципального задания на оказание муниципальных услуг (выполнение работ) | B36: 01 0 0002 | C36: 07 | D36: 09 | E36: 621 | I36: =прил.6!J718 -> 4281.5 | J36: =H36+I36 -> 4281.5 | K36: =прил.6!L718 -> -232.3 | L36: =J36+K36 -> 4049.2 | M36: =прил.6!N718 -> 0 | N36: =L36+M36 -> 4049.2 | O36: =прил.6!P718 -> 0 | P36: =N36+O36 -> 4049.2 | Q36: =прил.6!R718 -> 0 | R36: =P36+Q36 -> 4049.2 | S36: =прил.6!T718 -> 619.2 | T36: =R36+S36 -> 4668.4
A37: =IF(ISERROR(MATCH(E37,Код_КВР,0)),"",INDIRECT(ADDRESS(MATCH(E37,Код_КВР,0)+1,2,,,"КВР"))) -> Субсидии автономным учреждениям на иные цели | B37: 01 0 0002 | C37: 07 | D37: 09 | E37: 622 | M37: =прил.6!N719 -> 1917.5 | N37: =L37+M37 -> 1917.5 | O37: =прил.6!P719 -> 0 | P37: =N37+O37 -> 1917.5 | Q37: =прил.6!R719 -> 0 | R37: =P37+Q37 -> 1917.5 | S37: =прил.6!T719 -> -200 | T37: =R37+S37 -> 1717.5
A38: =IF(ISERROR(MATCH(B38,Код_КЦСР,0)),"",INDIRECT(ADDRESS(MATCH(B38,Код_КЦСР,0)+1,2,,,"КЦСР"))) -> Обеспечение работы по организации и ведению бухгалтерского (бюджетного) учета и отчетности | B38: 01 0 0003 | F38: =F39 -> 43113.9 | G38: =G39 -> 0 | H38: =F38+G38 -> 43113.9 | I38: =I39 -> 0 | J38: =H38+I38 -> 43113.9 | K38: =K39 -> -27.9 | L38: =J38+K38 -> 43086 | M38: =M39 -> 0 | N38: =L38+M38 -> 43086 | O38: =O39 -> 0 | P38: =N38+O38 -> 43086 | Q38: =Q39 -> 0 | R38: =P38+Q38 -> 43086 | S38: =S39 -> 0 | T38: =R38+S38 -> 43086
A39: =IF(ISERROR(MATCH(C39,Код_Раздел,0)),"",INDIRECT(ADDRESS(MATCH(C39,Код_Раздел,0)+1,2,,,"Раздел"))) -> Образование | B39: 01 0 0003 | C39: 07 | F39: =F40 -> 43113.9 | G39: =G40 -> 0 | H39: =F39+G39 -> 43113.9 | I39: =I40 -> 0 | J39: =H39+I39 -> 43113.9 | K39: =K40 -> -27.9 | L39: =J39+K39 -> 43086 | M39: =M40 -> 0 | N39: =L39+M39 -> 43086 | O39: =O40 -> 0 | P39: =N39+O39 -> 43086 | Q39: =Q40 -> 0 | R39: =P39+Q39 -> 43086 | S39: =S40 -> 0 | T39: =R39+S39 -> 43086
A40: Другие вопросы в области образования | B40: 01 0 0003 | C40: 07 | D40: 09 | F40: =F41 -> 43113.9 | G40: =G41 -> 0 | H40: =F40+G40 -> 43113.9 | I40: =I41 -> 0 | J40: =H40+I40 -> 43113.9 | K40: =K41 -> -27.9 | L40: =J40+K40 -> 43086 | M40: =M41 -> 0 | N40: =L40+M40 -> 43086 | O40: =O41 -> 0 | P40: =N40+O40 -> 43086 | Q40: =Q41 -> 0 | R40: =P40+Q40 -> 43086 | S40: =S41 -> 0 | T40: =R40+S40 -> 43086
A41: =IF(ISERROR(MATCH(E41,Код_КВР,0)),"",INDIRECT(ADDRESS(MATCH(E41,Код_КВР,0)+1,2,,,"КВР"))) -> Предоставление субсидий бюджетным, автономным учреждениям и иным некоммерческим организациям | B41: 01 0 0003 | C41: 07 | D41: 09 | E41: 600 | F41: =F42 -> 43113.9 | G41: =G42 -> 0 | H41: =F41+G41 -> 43113.9 | I41: =I42 -> 0 | J41: =H41+I41 -> 43113.9 | K41: =K42 -> -27.9 | L41: =J41+K41 -> 43086 | M41: =M42 -> 0 | N41: =L41+M41 -> 43086 | O41: =O42 -> 0 | P41: =N41+O41 -> 43086 | Q41: =Q42 -> 0 | R41: =P41+Q41 -> 43086 | S41: =S42 -> 0 | T41: =R41+S41 -> 43086
A42: =IF(ISERROR(MATCH(E42,Код_КВР,0)),"",INDIRECT(ADDRESS(MATCH(E42,Код_КВР,0)+1,2,,,"КВР"))) -> Субсидии бюджетным учреждениям | B42: 01 0 0003 | C42: 07 | D42: 09 | E42: 610 | F42: =F43 -> 43113.9 | G42: =G43 -> 0 | H42: =F42+G42 -> 43113.9 | I42: =I43 -> 0 | J42: =H42+I42 -> 43113.9 | K42: =K43 -> -27.9 | L42: =J42+K42 -> 43086 | M42: =M43 -> 0 | N42: =L42+M42 -> 43086 | O42: =O43 -> 0 | P42: =N42+O42 -> 43086 | Q42: =Q43 -> 0 | R42: =P42+Q42 -> 43086 | S42: =S43 -> 0 | T42: =R42+S42 -> 43086
A43: =IF(ISERROR(MATCH(E43,Код_КВР,0)),"",INDIRECT(ADDRESS(MATCH(E43,Код_КВР,0)+1,2,,,"КВР"))) -> Субсидии бюджетным учреждениям на финансовое обеспечение муниципального задания на оказание муниципальных услуг (выполнение работ) | B43: 01 0 0003 | C43: 07 | D43: 09 | E43: 611 | F43: =прил.6!G723 -> 43113.9 | G43: =прил.6!H723 -> 0 | H43: =F43+G43 -> 43113.9 | I43: =прил.6!J723 -> 0 | J43: =H43+I43 -> 43113.9 | K43: =прил.6!L723 -> -27.9 | L43: =J43+K43 -> 43086 | M43: =прил.6!N723 -> 0 | N43: =L43+M43 -> 43086 | O43: =прил.6!P723 -> 0 | P43: =N43+O43 -> 43086 | Q43: =прил.6!R723 -> 0 | R43: =P43+Q43 -> 43086 | S43: =прил.6!T723 -> 0 | T43: =R43+S43 -> 43086
A44: =IF(ISERROR(MATCH(B44,Код_КЦСР,0)),"",INDIRECT(ADDRESS(MATCH(B44,Код_КЦСР,0)+1,2,,,"КЦСР"))) -> Обеспечение питанием обучающихся в МОУ за счет субвенций из областного бюджета | B44: 01 0 7204 | F44: =F45 -> 18137.8 | G44: =G45 -> 0 | H44: =F44+G44 -> 18137.8 | I44: =I45 -> 0 | J44: =H44+I44 -> 18137.8 | K44: =K45 -> 0 | L44: =J44+K44 -> 18137.8 | M44: =M45 -> 0 | N44: =L44+M44 -> 18137.8 | O44: =O45 -> 0 | P44: =N44+O44 -> 18137.8 | Q44: =Q45 -> -2188.2 | R44: =P44+Q44 -> 15949.6 | S44: =S45 -> -1399.9 | T44: =R44+S44 -> 14549.7
A45: =IF(ISERROR(MATCH(C45,Код_Раздел,0)),"",INDIRECT(ADDRESS(MATCH(C45,Код_Раздел,0)+1,2,,,"Раздел"))) -> Образование | B45: 01 0 7204 | C45: 07 | F45: =F46 -> 18137.8 | G45: =G46 -> 0 | H45: =F45+G45 -> 18137.8 | I45: =I46 -> 0 | J45: =H45+I45 -> 18137.8 | K45: =K46 -> 0 | L45: =J45+K45 -> 18137.8 | M45: =M46 -> 0 | N45: =L45+M45 -> 18137.8 | O45: =O46 -> 0 | P45: =N45+O45 -> 18137.8 | Q45: =Q46 -> -2188.2 | R45: =P45+Q45 -> 15949.6 | S45: =S46 -> -1399.9 | T45: =R45+S45 -> 14549.7
...

Sheet прил.6
T1: Приложение 6
T2: к решению Череповецкой
T3: городской Думы
T4: от №
T7: Приложение 15
T8: к решению Череповецкой
T9: городской Думы
T10: от 10.12.2013 № 234
A16: РАСХОДЫ
A17: городского бюджета по разделам, подразделам, целевым статьям, группам и подгруппам видов расходов в ведомственной структуре расходов на 2014 год
U19: тыс. рублей
A20: Наименование | B20: ППП | C20: Раздел | D20: ПР | E20: ЦСР | F20: ВР | G20: Решение Череповецкой городской Думы от 10.12.2013 № 234 | H20: Изменения | I20: Решение ЧГД от 25.02.2014 № 19 | J20: Изменения | K20: Решение ЧГД от 25.03.2014 № 54 | L20: изменения | M20: Решение ЧГД от 28.04.2014 № 78 | N20: Изменения | O20: Решение ЧГД от 02.06.2014 № 112 | P20: Изменения | Q20: Решение ЧГД от 30.06.2014 № 138 | R20: Изменения | S20: Решение ЧГД от 10.12.2013 № 234 (с изменениями) | T20: Изменения | U20: Проект решения
A21: =IF(ISERROR(MATCH(B21,Код_ППП,0)),"",INDIRECT(ADDRESS(MATCH(B21,Код_ППП,0)+1,2,,,"ППП"))) -> МЭРИЯ ГОРОДА | B21: 801 | G21: =G22+G175+G233+G303+G333+G369 -> 465136.2 | H21: =H22+H175+H233+H303+H333+H369 -> 0 | I21: =G21+H21 -> 465136.2 | J21: =J22+J175+J233+J303+J333+J369 -> 10849.8 | K21: =I21+J21 -> 475986 | L21: =L22+L175+L233+L303+L333+L369 -> -3492.2 | M21: =K21+L21 -> 472493.8 | N21: =N22+N175+N233+N303+N333+N369 -> 805 | O21: =M21+N21 -> 473298.8 | P21: =P22+P175+P233+P303+P333+P369 -> 12800 | Q21: =O21+P21 -> 486098.8 | R21: =R22+R175+R233+R303+R333+R369 -> -506.1 | S21: =Q21+R21 -> 485592.7 | T21: =T22+T175+T233+T303+T333+T369 -> 5198.4 | U21: =S21+T21 -> 490791.1
A22: =IF(ISERROR(MATCH(C22,Код_Раздел,0)),"",INDIRECT(ADDRESS(MATCH(C22,Код_Раздел,0)+1,2,,,"Раздел"))) -> Общегосударственные вопросы | B22: 801 | C22: 01 | G22: =G23+G30+G65+G72 -> 248789 | H22: =H23+H30+H65+H72 -> 0 | I22: =G22+H22 -> 248789 | J22: =J23+J30+J65+J72 -> 9039.4 | K22: =I22+J22 -> 257828.4 | L22: =L23+L30+L65+L72 -> 754.3 | M22: =K22+L22 -> 258582.7 | N22: =N23+N30+N65+N72 -> 450.5 | O22: =M22+N22 -> 259033.2 | P22: =P23+P30+P65+P72 -> 0 | Q22: =O22+P22 -> 259033.2 | R22: =R23+R30+R65+R72 -> 1784.9 | S22: =Q22+R22 -> 260818.1 | T22: =T23+T30+T65+T72 -> 4797.4 | U22: =S22+T22 -> 265615.5
A23: Функционирование высшего должностного лица субъекта Российской Федерации и муниципального образования | B23: 801 | C23: 01 | D23: 02 | G23: =G24 -> 2998 | H23: =H24 -> 0 | I23: =G23+H23 -> 2998 | J23: =J24 -> 0 | K23: =I23+J23 -> 2998 | L23: =L24 -> 0 | M23: =K23+L23 -> 2998 | N23: =N24 -> 0 | O23: =M23+N23 -> 2998 | P23: =P24 -> 0 | Q23: =O23+P23 -> 2998 | R23: =R24 -> 0 | S23: =Q23+R23 -> 2998 | T23: =T24 -> 0 | U23: =S23+T23 -> 2998
A24: =IF(ISERROR(MATCH(E24,Код_КЦСР,0)),"",INDIRECT(ADDRESS(MATCH(E24,Код_КЦСР,0)+1,2,,,"КЦСР"))) -> Непрограммные направления деятельности органов местного самоуправления | B24: 801 | C24: 01 | D24: 02 | E24: 99 0 0000 | G24: =G25 -> 2998 | H24: =H25 -> 0 | I24: =G24+H24 -> 2998 | J24: =J25 -> 0 | K24: =I24+J24 -> 2998 | L24: =L25 -> 0 | M24: =K24+L24 -> 2998 | N24: =N25 -> 0 | O24: =M24+N24 -> 2998 | P24: =P25 -> 0 | Q24: =O24+P24 -> 2998 | R24: =R25 -> 0 | S24: =Q24+R24 -> 2998 | T24: =T25 -> 0 | U24: =S24+T24 -> 2998
A25: =IF(ISERROR(MATCH(E25,Код_КЦСР,0)),"",INDIRECT(ADDRESS(MATCH(E25,Код_КЦСР,0)+1,2,,,"КЦСР"))) -> Расходы, не включенные в муниципальные программы города Череповца | B25: 801 | C25: 01 | D25: 02 | E25: 99 4 0000 | G25: =G26 -> 2998 | H25: =H26 -> 0 | I25: =G25+H25 -> 2998 | J25: =J26 -> 0 | K25: =I25+J25 -> 2998 | L25: =L26 -> 0 | M25: =K25+L25 -> 2998 | N25: =N26 -> 0 | O25: =M25+N25 -> 2998 | P25: =P26 -> 0 | Q25: =O25+P25 -> 2998 | R25: =R26 -> 0 | S25: =Q25+R25 -> 2998 | T25: =T26 -> 0 | U25: =S25+T25 -> 2998
A26: =IF(ISERROR(MATCH(E26,Код_КЦСР,0)),"",INDIRECT(ADDRESS(MATCH(E26,Код_КЦСР,0)+1,2,,,"КЦСР"))) -> Руководство и управление в сфере установленных функций органов местного самоуправления | B26: 801 | C26: 01 | D26: 02 | E26: 99 4 1000 | G26: =G27 -> 2998 | H26: =H27 -> 0 | I26: =G26+H26 -> 2998 | J26: =J27 -> 0 | K26: =I26+J26 -> 2998 | L26: =L27 -> 0 | M26: =K26+L26 -> 2998 | N26: =N27 -> 0 | O26: =M26+N26 -> 2998 | P26: =P27 -> 0 | Q26: =O26+P26 -> 2998 | R26: =R27 -> 0 | S26: =Q26+R26 -> 2998 | T26: =T27 -> 0 | U26: =S26+T26 -> 2998
A27: =IF(ISERROR(MATCH(E27,Код_КЦСР,0)),"",INDIRECT(ADDRESS(MATCH(E27,Код_КЦСР,0)+1,2,,,"КЦСР"))) -> Глава муниципального образования | B27: 801 | C27: 01 | D27: 02 | E27: 99 4 1001 | G27: =G28 -> 2998 | H27: =H28 -> 0 | I27: =G27+H27 -> 2998 | J27: =J28 -> 0 | K27: =I27+J27 -> 2998 | L27: =L28 -> 0 | M27: =K27+L27 -> 2998 | N27: =N28 -> 0 | O27: =M27+N27 -> 2998 | P27: =P28 -> 0 | Q27: =O27+P27 -> 2998 | R27: =R28 -> 0 | S27: =Q27+R27 -> 2998 | T27: =T28 -> 0 | U27: =S27+T27 -> 2998
A28: =IF(ISERROR(MATCH(F28,Код_КВР,0)),"",INDIRECT(ADDRESS(MATCH(F28,Код_КВР,0)+1,2,,,"КВР"))) -> Расходы на выплаты персоналу в целях обеспечения выполнения функций муниципальными органами, казенными учреждениями | B28: 801 | C28: 01 | D28: 02 | E28: 99 4 1001 | F28: 100 | G28: =G29 -> 2998 | H28: =H29 -> 0 | I28: =G28+H28 -> 2998 | J28: =J29 -> 0 | K28: =I28+J28 -> 2998 | L28: =L29 -> 0 | M28: =K28+L28 -> 2998 | N28: =N29 -> 0 | O28: =M28+N28 -> 2998 | P28: =P29 -> 0 | Q28: =O28+P28 -> 2998 | R28: =R29 -> 0 | S28: =Q28+R28 -> 2998 | T28: =T29 -> 0 | U28: =S28+T28 -> 2998
A29: =IF(ISERROR(MATCH(F29,Код_КВР,0)),"",INDIRECT(ADDRESS(MATCH(F29,Код_КВР,0)+1,2,,,"КВР"))) -> Расходы на выплаты персоналу муниципальных органов | B29: 801 | C29: 01 | D29: 02 | E29: 99 4 1001 | F29: 120 | G29: 2998 | I29: =G29+H29 -> 2998 | K29: =I29+J29 -> 2998 | M29: =K29+L29 -> 2998 | O29: =M29+N29 -> 2998 | Q29: =O29+P29 -> 2998 | S29: =Q29+R29 -> 2998 | U29: =S29+T29 -> 2998
A30: Функционирование Правительства Российской Федерации, высших исполнительных органов государственной власти субъектов Российской Федерации, местных администраций | B30: 801 | C30: 01 | D30: 04 | G30: =G31 -> 126109.4 | H30: =H31 -> 0 | I30: =G30+H30 -> 126109.4 | J30: =J31 -> 0 | K30: =I30+J30 -> 126109.4 | L30: =L31 -> 0 | M30: =K30+L30 -> 126109.4 | N30: =N31 -> 222.5 | O30: =M30+N30 -> 126331.9 | P30: =P31 -> 0 | Q30: =O30+P30 -> 126331.9 | R30: =R31 -> 1542.5 | S30: =Q30+R30 -> 127874.4 | T30: =T31 -> 0 | U30: =S30+T30 -> 127874.4
A31: =IF(ISERROR(MATCH(E31,Код_КЦСР,0)),"",INDIRECT(ADDRESS(MATCH(E31,Код_КЦСР,0)+1,2,,,"КЦСР"))) -> Непрограммные направления деятельности органов местного самоуправления | B31: 801 | C31: 01 | D31: 04 | E31: 99 0 0000 | G31: =G32 -> 126109.4 | H31: =H32 -> 0 | I31: =G31+H31 -> 126109.4 | J31: =J32 -> 0 | K31: =I31+J31 -> 126109.4 | L31: =L32 -> 0 | M31: =K31+L31 -> 126109.4 | N31: =N32 -> 222.5 | O31: =M31+N31 -> 126331.9 | P31: =P32 -> 0 | Q31: =O31+P31 -> 126331.9 | R31: =R32 -> 1542.5 | S31: =Q31+R31 -> 127874.4 | T31: =T32 -> 0 | U31: =S31+T31 -> 127874.4
A32: =IF(ISERROR(MATCH(E32,Код_КЦСР,0)),"",INDIRECT(ADDRESS(MATCH(E32,Код_КЦСР,0)+1,2,,,"КЦСР"))) -> Расходы, не включенные в муниципальные программы города Череповца | B32: 801 | C32: 01 | D32: 04 | E32: 99 4 0000 | G32: =G33+G43+G49+G52+G62 -> 126109.4 | H32: =H33+H43+H49+H52+H62 -> 0 | I32: =G32+H32 -> 126109.4 | J32: =J33+J43+J49+J52+J62 -> 0 | K32: =I32+J32 -> 126109.4 | L32: =L33+L43+L49+L52+L62 -> 0 | M32: =K32+L32 -> 126109.4 | N32: =N33+N43+N49+N52+N62 -> 222.5 | O32: =M32+N32 -> 126331.9 | P32: =P33+P43+P49+P52+P62 -> 0 | Q32: =O32+P32 -> 126331.9 | R32: =R33+R43+R49+R52+R62+R56 -> 1542.5 | S32: =Q32+R32 -> 127874.4 | T32: =T33+T43+T49+T52+T62+T56 -> 0 | U32: =S32+T32 -> 127874.4
A33: =IF(ISERROR(MATCH(E33,Код_КЦСР,0)),"",INDIRECT(ADDRESS(MATCH(E33,Код_КЦСР,0)+1,2,,,"КЦСР"))) -> Руководство и управление в сфере установленных функций органов местного самоуправления | B33: 801 | C33: 01 | D33: 04 | E33: 99 4 1000 | G33: =G34 -> 124245.5 | H33: =H34 -> 0 | I33: =G33+H33 -> 124245.5 | J33: =J34 -> 0 | K33: =I33+J33 -> 124245.5 | L33: =L34 -> 0 | M33: =K33+L33 -> 124245.5 | N33: =N34 -> 222.5 | O33: =M33+N33 -> 124468 | P33: =P34 -> 0 | Q33: =O33+P33 -> 124468 | R33: =R34 -> 865.8 | S33: =Q33+R33 -> 125333.8 | T33: =T34 -> 0 | U33: =S33+T33 -> 125333.8
A34: =IF(ISERROR(MATCH(E34,Код_КЦСР,0)),"",INDIRECT(ADDRESS(MATCH(E34,Код_КЦСР,0)+1,2,,,"КЦСР"))) -> Центральный аппарат | B34: 801 | C34: 01 | D34: 04 | E34: 99 4 1002 | G34: =G35+G37+G40 -> 124245.5 | H34: =H35+H37+H40 -> 0 | I34: =G34+H34 -> 124245.5 | J34: =J35+J37+J40 -> 0 | K34: =I34+J34 -> 124245.5 | L34: =L35+L37+L40 -> 0 | M34: =K34+L34 -> 124245.5 | N34: =N35+N37+N40 -> 222.5 | O34: =M34+N34 -> 124468 | P34: =P35+P37+P40 -> 0 | Q34: =O34+P34 -> 124468 | R34: =R35+R37+R40 -> 865.8 | S34: =Q34+R34 -> 125333.8 | T34: =T35+T37+T40 -> 0 | U34: =S34+T34 -> 125333.8
A35: =IF(ISERROR(MATCH(F35,Код_КВР,0)),"",INDIRECT(ADDRESS(MATCH(F35,Код_КВР,0)+1,2,,,"КВР"))) -> Расходы на выплаты персоналу в целях обеспечения выполнения функций муниципальными органами, казенными учреждениями | B35: 801 | C35: 01 | D35: 04 | E35: 99 4 1002 | F35: 100 | G35: =G36 -> 120035.7 | H35: =H36 -> 0 | I35: =G35+H35 -> 120035.7 | J35: =J36 -> 0 | K35: =I35+J35 -> 120035.7 | L35: =L36 -> 0 | M35: =K35+L35 -> 120035.7 | N35: =N36 -> -0.5 | O35: =M35+N35 -> 120035.2 | P35: =P36 -> 0 | Q35: =O35+P35 -> 120035.2 | R35: =R36 -> 880 | S35: =Q35+R35 -> 120915.2 | T35: =T36 -> 0 | U35: =S35+T35 -> 120915.2
A36: =IF(ISERROR(MATCH(F36,Код_КВР,0)),"",INDIRECT(ADDRESS(MATCH(F36,Код_КВР,0)+1,2,,,"КВР"))) -> Расходы на выплаты персоналу муниципальных органов | B36: 801 | C36: 01 | D36: 04 | E36: 99 4 1002 | F36: 120 | G36: 120035.7 | I36: =G36+H36 -> 120035.7 | K36: =I36+J36 -> 120035.7 | M36: =K36+L36 -> 120035.7 | N36: -0.5 | O36: =M36+N36 -> 120035.2 | Q36: =O36+P36 -> 120035.2 | R36: =1074.7-174.7-20 -> 880 | S36: =Q36+R36 -> 120915.2 | U36: =S36+T36 -> 120915.2
A37: =IF(ISERROR(MATCH(F37,Код_КВР,0)),"",INDIRECT(ADDRESS(MATCH(F37,Код_КВР,0)+1,2,,,"КВР"))) -> Закупка товаров, работ и услуг для муниципальных нужд | B37: 801 | C37: 01 | D37: 04 | E37: 99 4 1002 | F37: 200 | G37: =G38 -> 4207.8 | H37: =H38 -> 0 | I37: =G37+H37 -> 4207.8 | J37: =J38 -> 0 | K37: =I37+J37 -> 4207.8 | L37: =L38 -> 0 | M37: =K37+L37 -> 4207.8 | N37: =N38 -> 223 | O37: =M37+N37 -> 4430.8 | P37: =P38 -> 0 | Q37: =O37+P37 -> 4430.8 | R37: =R38 -> -14.2 | S37: =Q37+R37 -> 4416.6 | T37: =T38 -> 0 | U37: =S37+T37 -> 4416.6
A38: =IF(ISERROR(MATCH(F38,Код_КВР,0)),"",INDIRECT(ADDRESS(MATCH(F38,Код_КВР,0)+1,2,,,"КВР"))) -> Иные закупки товаров, работ и услуг для обеспечения муниципальных нужд | B38: 801 | C38: 01 | D38: 04 | E38: 99 4 1002 | F38: 240 | G38: =G39 -> 4207.8 | H38: =H39 -> 0 | I38: =G38+H38 -> 4207.8 | J38: =J39 -> 0 | K38: =I38+J38 -> 4207.8 | L38: =L39 -> 0 | M38: =K38+L38 -> 4207.8 | N38: =N39 -> 223 | O38: =M38+N38 -> 4430.8 | P38: =P39 -> 0 | Q38: =O38+P38 -> 4430.8 | R38: =R39 -> -14.2 | S38: =Q38+R38 -> 4416.6 | T38: =T39 -> 0 | U38: =S38+T38 -> 4416.6
A39: =IF(ISERROR(MATCH(F39,Код_КВР,0)),"",INDIRECT(ADDRESS(MATCH(F39,Код_КВР,0)+1,2,,,"КВР"))) -> Прочая закупка товаров, работ и услуг для обеспечения муниципальных нужд | B39: 801 | C39: 01 | D39: 04 | E39: 99 4 1002 | F39: 244 | G39: 4207.8 | I39: =G39+H39 -> 4207.8 | K39: =I39+J39 -> 4207.8 | M39: =K39+L39 -> 4207.8 | N39: 223 | O39: =M39+N39 -> 4430.8 | Q39: =O39+P39 -> 4430.8 | R39: =-14.2 -> -14.2 | S39: =Q39+R39 -> 4416.6 | U39: =S39+T39 -> 4416.6
A40: =IF(ISERROR(MATCH(F40,Код_КВР,0)),"",INDIRECT(ADDRESS(MATCH(F40,Код_КВР,0)+1,2,,,"КВР"))) -> Иные бюджетные ассигнования | B40: 801 | C40: 01 | D40: 04 | E40: 99 4 1002 | F40: 800 | G40: =G41 -> 2 | H40: =H41 -> 0 | I40: =G40+H40 -> 2 | J40: =J41 -> 0 | K40: =I40+J40 -> 2 | L40: =L41 -> 0 | M40: =K40+L40 -> 2 | N40: =N41 -> 0 | O40: =M40+N40 -> 2 | P40: =P41 -> 0 | Q40: =O40+P40 -> 2 | R40: =R41 -> 0 | S40: =Q40+R40 -> 2 | T40: =T41 -> 0 | U40: =S40+T40 -> 2
A41: =IF(ISERROR(MATCH(F41,Код_КВР,0)),"",INDIRECT(ADDRESS(MATCH(F41,Код_КВР,0)+1,2,,,"КВР"))) -> Уплата налогов, сборов и иных платежей | B41: 801 | C41: 01 | D41: 04 | E41: 99 4 1002 | F41: 850 | G41: =G42 -> 2 | H41: =H42 -> 0 | I41: =G41+H41 -> 2 | J41: =J42 -> 0 | K41: =I41+J41 -> 2 | L41: =L42 -> 0 | M41: =K41+L41 -> 2 | N41: =N42 -> 0 | O41: =M41+N41 -> 2 | P41: =P42 -> 0 | Q41: =O41+P41 -> 2 | R41: =R42 -> 0 | S41: =Q41+R41 -> 2 | T41: =T42 -> 0 | U41: =S41+T41 -> 2
A42: =IF(ISERROR(MATCH(F42,Код_КВР,0)),"",INDIRECT(ADDRESS(MATCH(F42,Код_КВР,0)+1,2,,,"КВР"))) -> Уплата прочих налогов, сборов и иных платежей | B42: 801 | C42: 01 | D42: 04 | E42: 99 4 1002 | F42: 852 | G42: 2 | I42: =G42+H42 -> 2 | K42: =I42+J42 -> 2 | M42: =K42+L42 -> 2 | O42: =M42+N42 -> 2 | Q42: =O42+P42 -> 2 | S42: =Q42+R42 -> 2 | U42: =S42+T42 -> 2
A43: =IF(ISERROR(MATCH(E43,Код_КЦСР,0)),"",INDIRECT(ADDRESS(MATCH(E43,Код_КЦСР,0)+1,2,,,"КЦСР"))) -> Осуществление отдельных государственных полномочий по созданию в муниципальных районах и городских округах области комиссий по делам несовершеннолетних и защите их прав в соответствии с законом области от 28 ноября 2005 года № 1369-ОЗ «О наделении органов местного самоуправления отдельными государственными полномочиями в сфере административных отношений» за счет субвенций из областного бюджета | B43: 801 | C43: 01 | D43: 04 | E43: 99 4 7214 | G43: =G44+G46 -> 1026.6 | H43: =H44+H46 -> 0 | I43: =G43+H43 -> 1026.6 | J43: =J44+J46 -> 0 | K43: =I43+J43 -> 1026.6 | L43: =L44+L46 -> 0 | M43: =K43+L43 -> 1026.6 | N43: =N44+N46 -> 0 | O43: =M43+N43 -> 1026.6 | P43: =P44+P46 -> 0 | Q43: =O43+P43 -> 1026.6 | R43: =R44+R46 -> 0 | S43: =Q43+R43 -> 1026.6 | T43: =T44+T46 -> 0 | U43: =S43+T43 -> 1026.6
A44: =IF(ISERROR(MATCH(F44,Код_КВР,0)),"",INDIRECT(ADDRESS(MATCH(F44,Код_КВР,0)+1,2,,,"КВР"))) -> Расходы на выплаты персоналу в целях обеспечения выполнения функций муниципальными органами, казенными учреждениями | B44: 801 | C44: 01 | D44: 04 | E44: 99 4 7214 | F44: 100 | G44: =G45 -> 1016.6 | H44: =H45 -> 0 | I44: =G44+H44 -> 1016.6 | J44: =J45 -> 0 | K44: =I44+J44 -> 1016.6 | L44: =L45 -> 0 | M44: =K44+L44 -> 1016.6 | N44: =N45 -> 0 | O44: =M44+N44 -> 1016.6 | P44: =P45 -> 0 | Q44: =O44+P44 -> 1016.6 | R44: =R45 -> 0 | S44: =Q44+R44 -> 1016.6 | T44: =T45 -> 2.3 | U44: =S44+T44 -> 1018.9
A45: =IF(ISERROR(MATCH(F45,Код_КВР,0)),"",INDIRECT(ADDRESS(MATCH(F45,Код_КВР,0)+1,2,,,"КВР"))) -> Расходы на выплаты персоналу муниципальных органов | B45: 801 | C45: 01 | D45: 04 | E45: 99 4 7214 | F45: 120 | G45: 1016.6 | I45: =G45+H45 -> 1016.6 | K45: =I45+J45 -> 1016.6 | M45: =K45+L45 -> 1016.6 | O45: =M45+N45 -> 1016.6 | Q45: =O45+P45 -> 1016.6 | S45: =Q45+R45 -> 1016.6 | T45: =2.3 -> 2.3 | U45: =S45+T45 -> 1018.9
A46: =IF(ISERROR(MATCH(F46,Код_КВР,0)),"",INDIRECT(ADDRESS(MATCH(F46,Код_КВР,0)+1,2,,,"КВР"))) -> Закупка товаров, работ и услуг для муниципальных нужд | B46: 801 | C46: 01 | D46: 04 | E46: 99 4 7214 | F46: 200 | G46: =G47 -> 10 | H46: =H47 -> 0 | I46: =G46+H46 -> 10 | J46: =J47 -> 0 | K46: =I46+J46 -> 10 | L46: =L47 -> 0 | M46: =K46+L46 -> 10 | N46: =N47 -> 0 | O46: =M46+N46 -> 10 | P46: =P47 -> 0 | Q46: =O46+P46 -> 10 | R46: =R47 -> 0 | S46: =Q46+R46 -> 10 | T46: =T47 -> -2.3 | U46: =S46+T46 -> 7.7
A47: =IF(ISERROR(MATCH(F47,Код_КВР,0)),"",INDIRECT(ADDRESS(MATCH(F47,Код_КВР,0)+1,2,,,"КВР"))) -> Иные закупки товаров, работ и услуг для обеспечения муниципальных нужд | B47: 801 | C47: 01 | D47: 04 | E47: 99 4 7214 | F47: 240 | G47: =G48 -> 10 | H47: =H48 -> 0 | I47: =G47+H47 -> 10 | J47: =J48 -> 0 | K47: =I47+J47 -> 10 | L47: =L48 -> 0 | M47: =K47+L47 -> 10 | N47: =N48 -> 0 | O47: =M47+N47 -> 10 | P47: =P48 -> 0 | Q47: =O47+P47 -> 10 | R47: =R48 -> 0 | S47: =Q47+R47 -> 10 | T47: =T48 -> -2.3 | U47: =S47+T47 -> 7.7
A48: =IF(ISERROR(MATCH(F48,Код_КВР,0)),"",INDIRECT(ADDRESS(MATCH(F48,Код_КВР,0)+1,2,,,"КВР"))) -> Прочая закупка товаров, работ и услуг для обеспечения муниципальных нужд | B48: 801 | C48: 01 | D48: 04 | E48: 99 4 7214 | F48: 244 | G48: 10 | I48: =G48+H48 -> 10 | K48: =I48+J48 -> 10 | M48: =K48+L48 -> 10 | O48: =M48+N48 -> 10 | Q48: =O48+P48 -> 10 | S48: =Q48+R48 -> 10 | T48: =-2.3 -> -2.3 | U48: =S48+T48 -> 7.7
...
